BEGIN:VCALENDAR
VERSION:2.0
PRODID:-//pretix//Salwega_evenementen//
BEGIN:VTIMEZONE
TZID:Europe/Amsterdam
BEGIN:STANDARD
DTSTART:20001029T040000
RRULE:FREQ=YEARLY;BYDAY=-1SU;BYMONTH=10
TZNAME:CET
TZOFFSETFROM:+0200
TZOFFSETTO:+0100
END:STANDARD
BEGIN:DAYLIGHT
DTSTART:20000326T030000
RRULE:FREQ=YEARLY;BYDAY=-1SU;BYMONTH=3
TZNAME:CEST
TZOFFSETFROM:+0100
TZOFFSETTO:+0200
END:DAYLIGHT
END:VTIMEZONE
BEGIN:VEVENT
UID:pretix-stam-stamfeest19-0@stamevent.salwega.nl
DTSTART;TZID=Europe/Amsterdam:20190413T210000
DTEND;TZID=Europe/Amsterdam:20190414T040000
DESCRIPTION:Kaartjes: https://stamevent.salwega.nl/stamfeest19/\nOrganisato
 r: Salwega Stam
DTSTAMP:20260419T141649Z
LOCATION:Prins Gustaaf Adolf-huis\, Oude Liesbosweg 76\, 3524 SB Utrecht
SUMMARY:Stamfeest 2019
END:VEVENT
END:VCALENDAR
